BEGIN:VCALENDAR
VERSION:2.0
PRODID:-//La Bande à Philo - ECPv4.6.23//NONSGML v1.0//EN
CALSCALE:GREGORIAN
METHOD:PUBLISH
X-WR-CALNAME:La Bande à Philo
X-ORIGINAL-URL:http://www.labandeaphilo.fr
X-WR-CALDESC:Évènements pour La Bande à Philo
BEGIN:VEVENT
DTSTART;TZID=Europe/Paris:20210418T143000
DTEND;TZID=Europe/Paris:20210418T143000
DTSTAMP:20260421T052356
CREATED:20200701T142701Z
LAST-MODIFIED:20200701T142701Z
UID:1014-1618756200-1618756200@www.labandeaphilo.fr
SUMMARY:GOURIN (56)
DESCRIPTION:Spectacle 2019-2021 « Cap au sud\, Gertrude! » \nA la salle des Fêtes de Tronjoly. \nOrganisé par l’association des Amis de Tronjoly. \nEntrées: 6€ adultes; 4€ de 6 à 12 ans. Réservations: 02 97 23 48 67. \n
URL:http://www.labandeaphilo.fr/evenements/gourin-56/
END:VEVENT
END:VCALENDAR